BEGIN:VCALENDAR
VERSION:2.0
PRODID:-//eventon.com NONSGML v1.0//EN
BEGIN:VEVENT
UID:69ea89409cf99
DTSTAMP:20260423T150400
DTSTART:20201021T010000Z
DTEND:20201021T023000Z
LOCATION:Rich Valley Arena 
SUMMARY:Star Skate
DESCRIPTION: Star Skate
URL:https://www.richvalleyag.ca/events/star-skate/var/ri-2.l-L1
END:VEVENT
END:VCALENDAR